Workbook

Sheet Attendance Rate_%
A1: School | B1: Student ID | C1: First Name | D1: Last Name | E1: # of excused | F1: # of unexcused | G1: #of days in report period | H1: Grading Period / Assessment Date | I1: Grading Period | J1: Progress Against Goal | K1: What was modified in the support plan this grading period? | L1: Notes | M1: School Year | N1: Organization
A2: =CopyFrom!$G$2 -> 0 | B2: =CopyFrom!$A$2 -> 0 | C2: =CopyFrom!$B$2 -> 0 | D2: =CopyFrom!$C$2 -> 0 | H2: =CopyFrom!$D$2 -> 0 | M2: =CopyFrom!$E$2 -> 2026/2027 SY | N2: =CopyFrom!$F$2 -> CIS of Whatcom County

Sheet Attendance_Days Absent
A1: School | B1: Student ID | C1: First Name | D1: Last Name | E1: # of excused | F1: # of unexcused | G1: # of days in report period | H1: Grading Period / Assessment Date | I1: Grading Period | J1: Progress Against Goal | K1: What was modified in the support plan this grading period? | L1: Notes | M1: School Year | N1: Organization
A2: =CopyFrom!$G$2 -> 0 | B2: =CopyFrom!$A$2 -> 0 | C2: =CopyFrom!$B$2 -> 0 | D2: =CopyFrom!$C$2 -> 0 | H2: =CopyFrom!$D$2 -> 0 | M2: =CopyFrom!$E$2 -> 2026/2027 SY | N2: =CopyFrom!$F$2 -> CIS of Whatcom County

Sheet Tardies
A1: School | B1: Student ID | C1: First Name | D1: Last Name | E1: # of Tardies | F1: Grading Period / Assessment Date | G1: Grading Period | H1: Progress Against Goal | I1: What was modified in the support plan this grading period? | J1: Notes | K1: School Year | L1: Organization
A2: =CopyFrom!$G$2 -> 0 | B2: =CopyFrom!$A$2 -> 0 | C2: =CopyFrom!$B$2 -> 0 | D2: =CopyFrom!$C$2 -> 0 | F2: =CopyFrom!$D$2 -> 0 | K2: =CopyFrom!$E$2 -> 2026/2027 SY | L2: =CopyFrom!$F$2 -> CIS of Whatcom County

Sheet Suspensions
A1: School | B1: Student ID | C1: First Name | D1: Last Name | E1: # of Suspensions | F1: Grading Period / Assessment Date | G1: Grading Period | H1: Progress Against Goal | I1: What was modified in the support plan this grading period? | J1: Notes | K1: School Year | L1: Organization
A2: =CopyFrom!$G$2 -> 0 | B2: =CopyFrom!$A$2 -> 0 | C2: =CopyFrom!$B$2 -> 0 | D2: =CopyFrom!$C$2 -> 0 | F2: =CopyFrom!$D$2 -> 0 | K2: =CopyFrom!$E$2 -> 2026/2027 SY | L2: =CopyFrom!$F$2 -> CIS of Whatcom County

Sheet Discliplinary Referrals
A1: School | B1: Student ID | C1: First Name | D1: Last Name | E1: # of Disciplinary Referrals | F1: Grading Period / Assessment Date | G1: Grading Period | H1: Progress Against Goal | I1: What was modified in the support plan this grading period? | J1: Notes | K1: School Year | L1: Organization
A2: =CopyFrom!$G$2 -> 0 | B2: =CopyFrom!$A$2 -> 0 | C2: =CopyFrom!$B$2 -> 0 | D2: =CopyFrom!$C$2 -> 0 | F2: =CopyFrom!$D$2 -> 0 | K2: =CopyFrom!$E$2 -> 2026/2027 SY | L2: =CopyFrom!$F$2 -> CIS of Whatcom County

Sheet Other Behavior Incidents
A1: School | B1: Student ID | C1: First Name | D1: Last Name | E1: Behavior Incidents Value | F1: Grading Period / Assessment Date | G1: Grading Period | H1: Progress Against Goal | I1: What was modified in the support plan this grading period? | J1: Notes | K1: School Year | L1: Organization
A2: =CopyFrom!$G$2 -> 0 | B2: =CopyFrom!$A$2 -> 0 | C2: =CopyFrom!$B$2 -> 0 | D2: =CopyFrom!$C$2 -> 0 | F2: =CopyFrom!$D$2 -> 0 | K2: =CopyFrom!$E$2 -> 2026/2027 SY | L2: =CopyFrom!$F$2 -> CIS of Whatcom County

Sheet Conduct
A1: School | B1: Student ID | C1: First Name | D1: Last Name | E1: Conduct Value | F1: Grading Period / Assessment Date | G1: Grading Period | H1: Progress against goal | I1: What was modified in the support plan this grading period? | J1: Notes | K1: School Year | L1: Organization
A2: =CopyFrom!$G$2 -> 0 | B2: =CopyFrom!$A$2 -> 0 | C2: =CopyFrom!$B$2 -> 0 | D2: =CopyFrom!$C$2 -> 0 | F2: =CopyFrom!$D$2 -> 0 | K2: =CopyFrom!$E$2 -> 2026/2027 SY | L2: =CopyFrom!$F$2 -> CIS of Whatcom County

Sheet Core Course Grades
A1: School | B1: Core Course | C1: Student ID | D1: First Name | E1: Last Name | F1: Numeric Grade | G1: Non-Numeric Grade | H1: Grading Period / Assessment Date | I1: Grading Period | J1: Progress Against Goal | K1: What was modified in the support plan this grading period? | L1: Notes | M1: School Year | N1: Organization
A2: =CopyFrom!$G$2 -> 0 | B2: Math 1 | C2: =CopyFrom!$A$2 -> 0 | D2: =CopyFrom!$B$2 -> 0 | E2: =CopyFrom!$C$2 -> 0 | H2: =CopyFrom!$D$2 -> 0 | M2: =CopyFrom!$E$2 -> 2026/2027 SY | N2: =CopyFrom!$F$2 -> CIS of Whatcom County
A3: =CopyFrom!$G$2 -> 0 | B3: Math 2 | C3: =CopyFrom!$A$2 -> 0 | D3: =CopyFrom!$B$2 -> 0 | E3: =CopyFrom!$C$2 -> 0 | H3: =CopyFrom!$D$2 -> 0 | M3: =CopyFrom!$E$2 -> 2026/2027 SY | N3: =CopyFrom!$F$2 -> CIS of Whatcom County
A4: =CopyFrom!$G$2 -> 0 | B4: Science | C4: =CopyFrom!$A$2 -> 0 | D4: =CopyFrom!$B$2 -> 0 | E4: =CopyFrom!$C$2 -> 0 | H4: =CopyFrom!$D$2 -> 0 | M4: =CopyFrom!$E$2 -> 2026/2027 SY | N4: =CopyFrom!$F$2 -> CIS of Whatcom County
A5: =CopyFrom!$G$2 -> 0 | B5: Social Studies/History | C5: =CopyFrom!$A$2 -> 0 | D5: =CopyFrom!$B$2 -> 0 | E5: =CopyFrom!$C$2 -> 0 | H5: =CopyFrom!$D$2 -> 0 | M5: =CopyFrom!$E$2 -> 2026/2027 SY | N5: =CopyFrom!$F$2 -> CIS of Whatcom County
A6: =CopyFrom!$G$2 -> 0 | B6: Eng/Lang Arts/Reading/Writing 1 | C6: =CopyFrom!$A$2 -> 0 | D6: =CopyFrom!$B$2 -> 0 | E6: =CopyFrom!$C$2 -> 0 | H6: =CopyFrom!$D$2 -> 0 | M6: =CopyFrom!$E$2 -> 2026/2027 SY | N6: =CopyFrom!$F$2 -> CIS of Whatcom County
A7: =CopyFrom!$G$2 -> 0 | B7: Eng/Lang Arts/Reading/Writing 2 | C7: =CopyFrom!$A$2 -> 0 | D7: =CopyFrom!$B$2 -> 0 | E7: =CopyFrom!$C$2 -> 0 | H7: =CopyFrom!$D$2 -> 0 | M7: =CopyFrom!$E$2 -> 2026/2027 SY | N7: =CopyFrom!$F$2 -> CIS of Whatcom County

Sheet GPA
A1: School | B1: Student ID | C1: First Name | D1: Last Name | E1: GPA | F1: Grading Period / Assessment Date | G1: Grading Period | H1: Progress against goal | I1: What was modified in the support plan this grading period? | J1: Notes | K1: School Year | L1: Organization
A2: =CopyFrom!$G$2 -> 0 | B2: =CopyFrom!$A$2 -> 0 | C2: =CopyFrom!$B$2 -> 0 | D2: =CopyFrom!$C$2 -> 0 | F2: =CopyFrom!$D$2 -> 0 | K2: =CopyFrom!$E$2 -> 2026/2027 SY | L2: =CopyFrom!$F$2 -> CIS of Whatcom County

Sheet Credits - CTE Needed
A1: School | B1: Metric | C1: Student ID | D1: First Name | E1: Last Name | F1: Metric Value | G1: Grading Period / Assessment Date | H1: Grading Period | I1: Progress Against Goal | J1: What was modified in the support plan this grading period? | K1: Notes | L1: School Year | M1: Organization
A2: =CopyFrom!$G$2 -> 0 | B2: Credits Needed/Credit Completion | C2: =CopyFrom!$A$2 -> 0 | D2: =CopyFrom!$B$2 -> 0 | E2: =CopyFrom!$C$2 -> 0 | G2: =CopyFrom!$D$2 -> 0 | L2: =CopyFrom!$E$2 -> 2026/2027 SY | M2: =CopyFrom!$F$2 -> CIS of Whatcom County
A3: =CopyFrom!$G$2 -> 0 | B3: CTE Completion | C3: =CopyFrom!$A$2 -> 0 | D3: =CopyFrom!$B$2 -> 0 | E3: =CopyFrom!$C$2 -> 0 | G3: =CopyFrom!$D$2 -> 0 | L3: =CopyFrom!$E$2 -> 2026/2027 SY | M3: =CopyFrom!$F$2 -> CIS of Whatcom County

Sheet Reading Level
A1: School | B1: Student ID | C1: First Name | D1: Last Name | E1: Reading Level | F1: Grading Period / Assessment Date | G1: Grading period | H1: Progress Against Goal | I1: What was modified in the support plan this grading period? | J1: Notes | K1: School Year | L1: Organization
A2: =CopyFrom!$G$2 -> 0 | B2: =CopyFrom!$A$2 -> 0 | C2: =CopyFrom!$B$2 -> 0 | D2: =CopyFrom!$C$2 -> 0 | F2: =CopyFrom!$D$2 -> 0 | K2: =CopyFrom!$E$2 -> 2026/2027 SY | L2: =CopyFrom!$F$2 -> CIS of Whatcom County

Sheet Standardized Test Score
A1: School | B1: Stand. Test Type | C1: Student ID | D1: First Name | E1: Last Name | F1: Stand. Test Score | G1: Grading Period / Assessment Date | H1: Grading period | I1: Progress Against Goal | J1: What was modified in the support plan this grading period? | K1: Notes | L1: School Year | M1: Organization
A2: =CopyFrom!$G$2 -> 0 | B2: English/Language Arts | C2: =CopyFrom!$A$2 -> 0 | D2: =CopyFrom!$B$2 -> 0 | E2: =CopyFrom!$C$2 -> 0 | G2: =CopyFrom!$D$2 -> 0 | L2: =CopyFrom!$E$2 -> 2026/2027 SY | M2: =CopyFrom!$F$2 -> CIS of Whatcom County
A3: Alderwood Elementary | B3: Math | C3: =CopyFrom!$A$2 -> 0 | D3: =CopyFrom!$B$2 -> 0 | E3: =CopyFrom!$C$2 -> 0 | G3: =CopyFrom!$D$2 -> 0 | L3: =CopyFrom!$E$2 -> 2026/2027 SY | M3: =CopyFrom!$F$2 -> CIS of Whatcom County
A4: Alderwood Elementary | B4: Social Studies/History | C4: =CopyFrom!$A$2 -> 0 | D4: =CopyFrom!$B$2 -> 0 | E4: =CopyFrom!$C$2 -> 0 | G4: =CopyFrom!$D$2 -> 0 | L4: =CopyFrom!$E$2 -> 2026/2027 SY | M4: =CopyFrom!$F$2 -> CIS of Whatcom County
A5: Alderwood Elementary | B5: Science | C5: =CopyFrom!$A$2 -> 0 | D5: =CopyFrom!$B$2 -> 0 | E5: =CopyFrom!$C$2 -> 0 | G5: =CopyFrom!$D$2 -> 0 | L5: =CopyFrom!$E$2 -> 2026/2027 SY | M5: =CopyFrom!$F$2 -> CIS of Whatcom County

Sheet SEL
A1: School | B1: Social Emotional Learning Metric | C1: Student ID | D1: First Name | E1: Last Name | F1: SEL Score | G1: Grading Period / Assessment Date | H1: Grading period | I1: Progress Against Goal | J1: What was modified in the support plan this grading period? | K1: Notes | L1: School Year | M1: Organization
A2: =CopyFrom!$G$2 -> 0 | B2: Overall SEAD | C2: =CopyFrom!$A$2 -> 0 | D2: =CopyFrom!$B$2 -> 0 | E2: =CopyFrom!$C$2 -> 0 | G2: =CopyFrom!$D$2 -> 0 | L2: =CopyFrom!$E$2 -> 2026/2027 SY | M2: =CopyFrom!$F$2 -> CIS of Whatcom County
A3: =CopyFrom!$G$2 -> 0 | B3: Self-Perception (SEAD) | C3: =CopyFrom!$A$2 -> 0 | D3: =CopyFrom!$B$2 -> 0 | E3: =CopyFrom!$C$2 -> 0 | G3: =CopyFrom!$D$2 -> 0 | L3: =CopyFrom!$E$2 -> 2026/2027 SY | M3: =CopyFrom!$F$2 -> CIS of Whatcom County
A4: =CopyFrom!$G$2 -> 0 | B4: Self Control (SEAD) | C4: =CopyFrom!$A$2 -> 0 | D4: =CopyFrom!$B$2 -> 0 | E4: =CopyFrom!$C$2 -> 0 | G4: =CopyFrom!$D$2 -> 0 | L4: =CopyFrom!$E$2 -> 2026/2027 SY | M4: =CopyFrom!$F$2 -> CIS of Whatcom County
A5: =CopyFrom!$G$2 -> 0 | B5: Social Support (SEAD) | C5: =CopyFrom!$A$2 -> 0 | D5: =CopyFrom!$B$2 -> 0 | E5: =CopyFrom!$C$2 -> 0 | G5: =CopyFrom!$D$2 -> 0 | L5: =CopyFrom!$E$2 -> 2026/2027 SY | M5: =CopyFrom!$F$2 -> CIS of Whatcom County
A6: =CopyFrom!$G$2 -> 0 | B6: Global Engagement (SEAD) | C6: =CopyFrom!$A$2 -> 0 | D6: =CopyFrom!$B$2 -> 0 | E6: =CopyFrom!$C$2 -> 0 | G6: =CopyFrom!$D$2 -> 0 | L6: =CopyFrom!$E$2 -> 2026/2027 SY | M6: =CopyFrom!$F$2 -> CIS of Whatcom County
A7: =CopyFrom!$G$2 -> 0 | B7: Social Awareness (SEAD) | C7: =CopyFrom!$A$2 -> 0 | D7: =CopyFrom!$B$2 -> 0 | E7: =CopyFrom!$C$2 -> 0 | G7: =CopyFrom!$D$2 -> 0 | L7: =CopyFrom!$E$2 -> 2026/2027 SY | M7: =CopyFrom!$F$2 -> CIS of Whatcom County

Sheet Field Options
A1: School | B1: Student ID | C1: First Name | D1: Last Name | E1: Grading period | F1: Grading Period / Assessment Date | G1: Progress Against Goal | H1: What was modified in the support plan this grading period? | I1: Core Course | J1: Stand. Test Type | K1: Social Emotional Learning Metric | L1: Notes | M1: School Year | N1: Organization
E2: 1 | G2: Progressing | H2: No Changes | I2: Math 1 | J2: English/Language Arts | K2: Overall SEAD
E3: 2 | G3: Declined | H3: Added/Removed Supports | I3: Math 2 | J3: Math | K3: Self-Perception (SEAD)
E4: 3 | G4: No Progress/Positive | H4: Increased/Decreased Support Frequency | I4: Science | J4: Science | K4: Self Control (SEAD)
E5: 4 | G5: No Progress/Negative | H5: Meeting Frequency | I5: Social Studies/History | J5: Social Studies/History | K5: Social Support (SEAD)
E6: 5 | G6: Value Used As Baseline | H6: Another Change | I6: Eng/Lang Arts/Reading/Writing 1 | K6: Global Engagement (SEAD)
E7: 6 | G7: Exited Before Progress Known | I7: Eng/Lang Arts/Reading/Writing 2 | K7: Social Awareness (SEAD)
K8: Other (SEL)
K9: Emotional Engagement
K10: Social Engagement
K11: Behavior Engagement
K12: Cognitive Engagement
K13: Global Engagement (Engagement Survey)
A15: List the name of the school as it appears in CISDM | B15: Enter the exact Student ID as appears in CISDM | C15: Optional Field | D15: Enter the exact Last name for the student as appears in CISDM | E15: Enter the correct numerical grading period | F15: Enter the date to reflect either the assessment date or publish date of the student data using the [00/00/0000] format. Example 12/05/2023 | G15: Select from drop down | H15: You can enter more than one by separating with a comma [Increased/Decreased Support Frequency, Added/Removed Supports] | I15: Select from drop down | J15: Select from drop down | K15: Select from drop down | L15: Optional Field | M15: Enter the correct school year in the correct format 2022/2023 SY | N15: Enter the Organization name as it appears in CISDM

Sheet CopyFrom
A1: Student ID | B1: First Name | C1: Last Name | D1: Grading Period / Assessment Date | E1: School Year | F1: Organization | G1: School
E2: 2026/2027 SY | F2: CIS of Whatcom County
G4: Alderwood Elementary
G5: Allen Elementary School
G6: Anacortes and Cap Sante High School
G7: Anacortes and Cap Sante High School
G8: Anacortes Middle School
G9: Blaine Elementary School
G10: Blaine Primary School
G11: Cascade Middle School
G12: Centennial Elementary School
G13: Ferndale High School
G14: Harriet Rowley Elementary School
G15: Horizon Middle School
... G29: West View Elementary
