Workbook

Sheet Input
A1: =INDEX(Sheet1!$A$1:$BG$100, 1 + INT((ROW(A1)-1)/59), MOD(ROW(A1)-1, 59) + 1) -> Affiliate | B1: CIS of Whatcom County | C1: <- Always
A2: =INDEX(Sheet1!$A$1:$BG$100, 1 + INT((ROW(A2)-1)/59), MOD(ROW(A2)-1, 59) + 1) -> School | C2: Alderwood Elementary | D2: Allen Elementary School | E2: Anacortes and Cap Sante High School | F2: Anacortes and Cap Sante High School | G2: Anacortes Middle School | H2: Blaine Elementary School | I2: Blaine Primary School | J2: Cascade Middle School | K2: Centennial Elementary School | L2: Ferndale High School | M2: Harriet Rowley Elementary School | N2: Horizon Middle School | O2: Kendall Elementary School | P2: LaVenture Middle School | Q2: Lincoln Elementary | R2: Little Mountain Elementary | S2: Lucille Umbarger Middle School | T2: Meridian High School | U2: Mount Baker Junior High | V2: Mount Baker Middle School | W2: Mount Vernon High School | X2: Shuksan Middle School | Y2: Squalicum High School | Z2: Vista Middle School | AA2: Washington Elementary School | AB2: West View Elementary
A3: =INDEX(Sheet1!$A$1:$BG$100, 1 + INT((ROW(A3)-1)/59), MOD(ROW(A3)-1, 59) + 1) -> StudentID | C3: (can NOT be duplicated within an affiliate)
A4: =INDEX(Sheet1!$A$1:$BG$100, 1 + INT((ROW(A4)-1)/59), MOD(ROW(A4)-1, 59) + 1) -> FirstName
A5: =INDEX(Sheet1!$A$1:$BG$100, 1 + INT((ROW(A5)-1)/59), MOD(ROW(A5)-1, 59) + 1) -> LastName
A6: =INDEX(Sheet1!$A$1:$BG$100, 1 + INT((ROW(A6)-1)/59), MOD(ROW(A6)-1, 59) + 1) -> OriginalCISEnrollment | C6: (if this is the student’s first year with CIS, use the Enrollment Date for this year in this column)
A7: =INDEX(Sheet1!$A$1:$BG$100, 1 + INT((ROW(A7)-1)/59), MOD(ROW(A7)-1, 59) + 1) -> ConsentBeginDate
A8: =INDEX(Sheet1!$A$1:$BG$100, 1 + INT((ROW(A8)-1)/59), MOD(ROW(A8)-1, 59) + 1) -> ConsentEndDate | C8: (can NOT be Open or 12/31/9999)
A9: =INDEX(Sheet1!$A$1:$BG$100, 1 + INT((ROW(A9)-1)/59), MOD(ROW(A9)-1, 59) + 1) -> MediaConsent | C9: Yes | D9: No
A10: =INDEX(Sheet1!$A$1:$BG$100, 1 + INT((ROW(A10)-1)/59), MOD(ROW(A10)-1, 59) + 1) -> Birthdate
A11: =INDEX(Sheet1!$A$1:$BG$100, 1 + INT((ROW(A11)-1)/59), MOD(ROW(A11)-1, 59) + 1) -> Gender | C11: Male | D11: Female | E11: Intersex | F11: Nonbinary | G11: Transgender Male | H11: Transgender Female | I11: Agender | J11: Gender queer/fluid/non-conforming | K11: Two or more identities | L11: Unknown
A12: =INDEX(Sheet1!$A$1:$BG$100, 1 + INT((ROW(A12)-1)/59), MOD(ROW(A12)-1, 59) + 1) -> RaceEthnicity1 | C12: American Indian/Alaska Native | D12: Asian | E12: Native Hawaiian/Other Pacific Islander | F12: Black/African American | G12: Hispanic/Latino | H12: White | I12: Other | J12: Unknown
A13: =INDEX(Sheet1!$A$1:$BG$100, 1 + INT((ROW(A13)-1)/59), MOD(ROW(A13)-1, 59) + 1) -> RaceEthnicity2 | C13: American Indian/Alaska Native | D13: Asian | E13: Native Hawaiian/Other Pacific Islander | F13: Black/African American | G13: Hispanic/Latino | H13: White | I13: Other | J13: Unknown
A14: =INDEX(Sheet1!$A$1:$BG$100, 1 + INT((ROW(A14)-1)/59), MOD(ROW(A14)-1, 59) + 1) -> RaceEthnicity3 | C14: American Indian/Alaska Native | D14: Asian | E14: Native Hawaiian/Other Pacific Islander | F14: Black/African American | G14: Hispanic/Latino | H14: White | I14: Other | J14: Unknown
A15: =INDEX(Sheet1!$A$1:$BG$100, 1 + INT((ROW(A15)-1)/59), MOD(ROW(A15)-1, 59) + 1) -> RaceEthnicityOther | C15: Race/Ethnicity not listed as previous options
A16: =INDEX(Sheet1!$A$1:$BG$100, 1 + INT((ROW(A16)-1)/59), MOD(ROW(A16)-1, 59) + 1) -> Additional Ethnicity 1 | B16: None Listed | C16: Hispanic, Latino, or Spanish | D16: Middle Eastern or North African (MENA) | E16: Unknown | F16: None Listed
A17: =INDEX(Sheet1!$A$1:$BG$100, 1 + INT((ROW(A17)-1)/59), MOD(ROW(A17)-1, 59) + 1) -> Additional Ethnicity 2 | C17: Hispanic, Latino, or Spanish | D17: Middle Eastern or North African (MENA) | E17: Unknown
A18: =INDEX(Sheet1!$A$1:$BG$100, 1 + INT((ROW(A18)-1)/59), MOD(ROW(A18)-1, 59) + 1) -> Language1 | C18: English | D18: Spanish | E18: Albanian | F18: Arabic | G18: ASL | H18: Bengali | I18: Bulgarian | J18: Burmese | K18: Cambodian | L18: Cantonese | M18: Cape Verdean Creole | N18: Czech | O18: Farsi (Persian) | P18: French | Q18: German | R18: Georgian | S18: Gujarati | T18: Haitian Creole | U18: Hindi | V18: Hmong | W18: Italian | X18: Japanese | Y18: Javanese | Z18: Kannada | AA18: Khmer | AB18: Korean | AC18: Malay | AD18: Indonesian | AE18: Mandarin Chinese | AF18: Marathi | AG18: Polish | AH18: Portuguese | AI18: Punjabi | AJ18: Russian | AK18: Somali | AL18: Swahili | AM18: Tamil | AN18: Telugu | AO18: Thai | AP18: Turkish | AQ18: ASL | AR18: Hmong | AS18: Unknown | AT18: Other
A19: =INDEX(Sheet1!$A$1:$BG$100, 1 + INT((ROW(A19)-1)/59), MOD(ROW(A19)-1, 59) + 1) -> Language2 | C19: English | D19: Spanish | E19: Albanian | F19: Arabic | G19: ASL | H19: Bengali | I19: Bulgarian | J19: Burmese | K19: Cambodian | L19: Cantonese | M19: Cape Verdean Creole | N19: Czech | O19: Farsi (Persian) | P19: French | Q19: German | R19: Georgian | S19: Gujarati | T19: Haitian Creole | U19: Hindi | V19: Hmong | W19: Italian | X19: Japanese | Y19: Javanese | Z19: Kannada | AA19: Khmer | AB19: Korean | AC19: Malay | AD19: Indonesian | AE19: Mandarin Chinese | AF19: Marathi | AG19: Polish | AH19: Portuguese | AI19: Punjabi | AJ19: Russian | AK19: Somali | AL19: Swahili | AM19: Tamil | AN19: Telugu | AO19: Thai | AP19: Turkish | AQ19: ASL | AR19: Hmong | AS19: Unknown | AT19: Other
A20: =INDEX(Sheet1!$A$1:$BG$100, 1 + INT((ROW(A20)-1)/59), MOD(ROW(A20)-1, 59) + 1) -> Language3 | C20: English | D20: Spanish | E20: Albanian | F20: Arabic | G20: ASL | H20: Bengali | I20: Bulgarian | J20: Burmese | K20: Cambodian | L20: Cantonese | M20: Cape Verdean Creole | N20: Czech | O20: Farsi (Persian) | P20: French | Q20: German | R20: Georgian | S20: Gujarati | T20: Haitian Creole | U20: Hindi | V20: Hmong | W20: Italian | X20: Japanese | Y20: Javanese | Z20: Kannada | AA20: Khmer | AB20: Korean | AC20: Malay | AD20: Indonesian | AE20: Mandarin Chinese | AF20: Marathi | AG20: Polish | AH20: Portuguese | AI20: Punjabi | AJ20: Russian | AK20: Somali | AL20: Swahili | AM20: Tamil | AN20: Telugu | AO20: Thai | AP20: Turkish | AQ20: ASL | AR20: Hmong | AS20: Unknown | AT20: Other
A21: =INDEX(Sheet1!$A$1:$BG$100, 1 + INT((ROW(A21)-1)/59), MOD(ROW(A21)-1, 59) + 1) -> LanguageOther | C21: Language not listed in Appendix C
A22: =INDEX(Sheet1!$A$1:$BG$100, 1 + INT((ROW(A22)-1)/59), MOD(ROW(A22)-1, 59) + 1) -> PreviouslyInvolved | C22: Yes | D22: No
A23: =INDEX(Sheet1!$A$1:$BG$100, 1 + INT((ROW(A23)-1)/59), MOD(ROW(A23)-1, 59) + 1) -> WhichAffiliate
A24: =INDEX(Sheet1!$A$1:$BG$100, 1 + INT((ROW(A24)-1)/59), MOD(ROW(A24)-1, 59) + 1) -> Address1
A25: =INDEX(Sheet1!$A$1:$BG$100, 1 + INT((ROW(A25)-1)/59), MOD(ROW(A25)-1, 59) + 1) -> AptNumber
A26: =INDEX(Sheet1!$A$1:$BG$100, 1 + INT((ROW(A26)-1)/59), MOD(ROW(A26)-1, 59) + 1) -> City
A27: =INDEX(Sheet1!$A$1:$BG$100, 1 + INT((ROW(A27)-1)/59), MOD(ROW(A27)-1, 59) + 1) -> State | B27: WA
A28: =INDEX(Sheet1!$A$1:$BG$100, 1 + INT((ROW(A28)-1)/59), MOD(ROW(A28)-1, 59) + 1) -> ZipCode
A29: =INDEX(Sheet1!$A$1:$BG$100, 1 + INT((ROW(A29)-1)/59), MOD(ROW(A29)-1, 59) + 1) -> CellPhone | C29: This format: 138-456-5566
A30: =INDEX(Sheet1!$A$1:$BG$100, 1 + INT((ROW(A30)-1)/59), MOD(ROW(A30)-1, 59) + 1) -> HomePhone
A31: =INDEX(Sheet1!$A$1:$BG$100, 1 + INT((ROW(A31)-1)/59), MOD(ROW(A31)-1, 59) + 1) -> EmailAddress
A32: =INDEX(Sheet1!$A$1:$BG$100, 1 + INT((ROW(A32)-1)/59), MOD(ROW(A32)-1, 59) + 1) -> ReferralDate | C32: This format: 02/05/2026
A33: =INDEX(Sheet1!$A$1:$BG$100, 1 + INT((ROW(A33)-1)/59), MOD(ROW(A33)-1, 59) + 1) -> ReferralReason1 | C33: Poor academic performance (e.g., below grade level, under credited, below average/proficient) | D33: Poor attendance (e.g., missing 10 or more days or classes) | E33: Disruptive behavior in school/classroom | F33: Social and/or emotional concerns | G33: Assistance with basic needs | H33: Assistance with parent/family engagement/involvement | I33: Other
A34: =INDEX(Sheet1!$A$1:$BG$100, 1 + INT((ROW(A34)-1)/59), MOD(ROW(A34)-1, 59) + 1) -> ReferralReason2 | C34: Poor academic performance (e.g., below grade level, under credited, below average/proficient) | D34: Poor attendance (e.g., missing 10 or more days or classes) | E34: Disruptive behavior in school/classroom | F34: Social and/or emotional concerns | G34: Assistance with basic needs | H34: Assistance with parent/family engagement/involvement | I34: Other
A35: =INDEX(Sheet1!$A$1:$BG$100, 1 + INT((ROW(A35)-1)/59), MOD(ROW(A35)-1, 59) + 1) -> ReferralReason3 | C35: Poor academic performance (e.g., below grade level, under credited, below average/proficient) | D35: Poor attendance (e.g., missing 10 or more days or classes) | E35: Disruptive behavior in school/classroom | F35: Social and/or emotional concerns | G35: Assistance with basic needs | H35: Assistance with parent/family engagement/involvement | I35: Other
A36: =INDEX(Sheet1!$A$1:$BG$100, 1 + INT((ROW(A36)-1)/59), MOD(ROW(A36)-1, 59) + 1) -> ReferringPartyName
A37: =INDEX(Sheet1!$A$1:$BG$100, 1 + INT((ROW(A37)-1)/59), MOD(ROW(A37)-1, 59) + 1) -> ReferringPartyType | C37: CIS Staff | D37: EWI | E37: Juvenile/Probation Court | F37: MTSS Team | G37: Parent | H37: Peer | I37: Principal | J37: Protective Services | K37: School Counselor | L37: School Nurse | M37: School Resource Officer/Security | N37: School Social Worker | O37: Secretary | P37: Self Referral | Q37: Social Services | R37: Student | S37: Teacher | T37: Vice Principal | U37: Other
A38: =INDEX(Sheet1!$A$1:$BG$100, 1 + INT((ROW(A38)-1)/59), MOD(ROW(A38)-1, 59) + 1) -> PhoneNumber | C38: This format: 138-456-5566
A39: =INDEX(Sheet1!$A$1:$BG$100, 1 + INT((ROW(A39)-1)/59), MOD(ROW(A39)-1, 59) + 1) -> ReferralEmailAddress
A40: =INDEX(Sheet1!$A$1:$BG$100, 1 + INT((ROW(A40)-1)/59), MOD(ROW(A40)-1, 59) + 1) -> ParentFirstName
A41: =INDEX(Sheet1!$A$1:$BG$100, 1 + INT((ROW(A41)-1)/59), MOD(ROW(A41)-1, 59) + 1) -> ParentLastName
A42: =INDEX(Sheet1!$A$1:$BG$100, 1 + INT((ROW(A42)-1)/59), MOD(ROW(A42)-1, 59) + 1) -> ParentGuardianPhone1 | C42: This format: 138-456-5566
A43: =INDEX(Sheet1!$A$1:$BG$100, 1 + INT((ROW(A43)-1)/59), MOD(ROW(A43)-1, 59) + 1) -> PGPhone1Type | C43: Home | D43: Work | E43: Cell
A44: =INDEX(Sheet1!$A$1:$BG$100, 1 + INT((ROW(A44)-1)/59), MOD(ROW(A44)-1, 59) + 1) -> ParentGuardianPhone2 | C44: This format: 138-456-5566
A45: =INDEX(Sheet1!$A$1:$BG$100, 1 + INT((ROW(A45)-1)/59), MOD(ROW(A45)-1, 59) + 1) -> PGPhone2Type | C45: Home | D45: Work | E45: Cell
A46: =INDEX(Sheet1!$A$1:$BG$100, 1 + INT((ROW(A46)-1)/59), MOD(ROW(A46)-1, 59) + 1) -> ParentGuardianPhone3 | C46: This format: 138-456-5566
A47: =INDEX(Sheet1!$A$1:$BG$100, 1 + INT((ROW(A47)-1)/59), MOD(ROW(A47)-1, 59) + 1) -> PGPhone3Type | C47: Home | D47: Work | E47: Cell
A48: =INDEX(Sheet1!$A$1:$BG$100, 1 + INT((ROW(A48)-1)/59), MOD(ROW(A48)-1, 59) + 1) -> ParentGuardianEmail
A49: =INDEX(Sheet1!$A$1:$BG$100, 1 + INT((ROW(A49)-1)/59), MOD(ROW(A49)-1, 59) + 1) -> EnrollmentEntryDate | C49: This format: 02/05/2026
A50: =INDEX(Sheet1!$A$1:$BG$100, 1 + INT((ROW(A50)-1)/59), MOD(ROW(A50)-1, 59) + 1) -> SchoolYear | B50: 2026/2027 SY | C50: This format: 2024/2025 SY
A51: =INDEX(Sheet1!$A$1:$BG$100, 1 + INT((ROW(A51)-1)/59), MOD(ROW(A51)-1, 59) + 1) -> GradeLevel | C51: Pre-K | D51: Kindergarten | E51: 1st Grade | F51: 2nd Grade | G51: 3rd Grade | H51: 4th Grade | I51: 5th Grade | J51: 6th Grade | K51: 7th Grade | L51: 8th Grade | M51: 9th Grade | N51: 10th Grade | O51: 11th Grade | P51: 12th Grade | Q51: College | R51: Other | S51: Unknown
A52: =INDEX(Sheet1!$A$1:$BG$100, 1 + INT((ROW(A52)-1)/59), MOD(ROW(A52)-1, 59) + 1) -> CMorNonCM | C52: Case Managed | D52: Non-Case Managed
A53: =INDEX(Sheet1!$A$1:$BG$100, 1 + INT((ROW(A53)-1)/59), MOD(ROW(A53)-1, 59) + 1) -> CaseManager | C53: !If Case managed must have case manager (Spelling and case-sensitive and must exactly match an actual case manager in the system)
A54: =INDEX(Sheet1!$A$1:$BG$100, 1 + INT((ROW(A54)-1)/59), MOD(ROW(A54)-1, 59) + 1) -> Initiative1
A55: =INDEX(Sheet1!$A$1:$BG$100, 1 + INT((ROW(A55)-1)/59), MOD(ROW(A55)-1, 59) + 1) -> Initiative2
A56: =INDEX(Sheet1!$A$1:$BG$100, 1 + INT((ROW(A56)-1)/59), MOD(ROW(A56)-1, 59) + 1) -> HomeroomTeacher
A57: =INDEX(Sheet1!$A$1:$BG$100, 1 + INT((ROW(A57)-1)/59), MOD(ROW(A57)-1, 59) + 1) -> LivingSituation | C57: Both parents | D57: Single parent | E57: Legal guardian | F57: Other family member(s) | G57: Alone | H57: Other | I57: Unknown
A58: =INDEX(Sheet1!$A$1:$BG$100, 1 + INT((ROW(A58)-1)/59), MOD(ROW(A58)-1, 59) + 1) -> PublicAssistance1 | C58: Migrant Program | D58: SNAP/Food Stamps | E58: TANF | F58: WIC | G58: Other
A59: =INDEX(Sheet1!$A$1:$BG$100, 1 + INT((ROW(A59)-1)/59), MOD(ROW(A59)-1, 59) + 1) -> PublicAssistance2 | C59: Migrant Program | D59: SNAP/Food Stamps | E59: TANF | F59: WIC | G59: Other

Sheet Sheet1
A1: Affiliate | B1: School | C1: StudentID | D1: FirstName | E1: LastName | F1: OriginalCISEnrollment | G1: ConsentBeginDate | H1: ConsentEndDate | I1: MediaConsent | J1: Birthdate | K1: Gender | L1: RaceEthnicity1 | M1: RaceEthnicity2 | N1: RaceEthnicity3 | O1: RaceEthnicityOther | P1: Additional Ethnicity 1 | Q1: Additional Ethnicity 2 | R1: Language1 | S1: Language2 | T1: Language3 | U1: LanguageOther | V1: PreviouslyInvolved | W1: WhichAffiliate | X1: Address1 | Y1: AptNumber | Z1: City | AA1: State | AB1: ZipCode | AC1: CellPhone | AD1: HomePhone | AE1: EmailAddress | AF1: ReferralDate | AG1: ReferralReason1 | AH1: ReferralReason2 | AI1: ReferralReason3 | AJ1: ReferringPartyName | AK1: ReferringPartyType | AL1: PhoneNumber | AM1: ReferralEmailAddress | AN1: ParentFirstName | AO1: ParentLastName | AP1: ParentGuardianPhone1 | AQ1: PGPhone1Type | AR1: ParentGuardianPhone2 | AS1: PGPhone2Type | AT1: ParentGuardianPhone3 | AU1: PGPhone3Type | AV1: ParentGuardianEmail | AW1: EnrollmentEntryDate | AX1: SchoolYear | AY1: GradeLevel | AZ1: CMorNonCM | BA1: CaseManager | BB1: Initiative1 | BC1: Initiative2 | BD1: HomeroomTeacher | BE1: LivingSituation | BF1: PublicAssistance1 | BG1: PublicAssistance2
A2: =Input!B1 -> CIS of Whatcom County | B2: =Input!B2 -> 0 | C2: =Input!B3 -> 0 | D2: =Input!B4 -> 0 | E2: =Input!B5 -> 0 | F2: =Input!B6 -> 0 | G2: =Input!B7 -> 0 | H2: =Input!B8 -> 0 | I2: =Input!B9 -> 0 | J2: =Input!B10 -> 0 | K2: =Input!B11 -> 0 | L2: =Input!B12 -> 0 | M2: =Input!B13 -> 0 | N2: =Input!B14 -> 0 | O2: =Input!B15 -> 0 | P2: =Input!B16 -> None Listed | Q2: =Input!B17 -> 0 | R2: =Input!B18 -> 0 | S2: =Input!B19 -> 0 | T2: =Input!B20 -> 0 | U2: =Input!B21 -> 0 | V2: =Input!B22 -> 0 | W2: =Input!B23 -> 0 | X2: =Input!B24 -> 0 | Y2: =Input!B25 -> 0 | Z2: =Input!B26 -> 0 | AA2: =Input!B27 -> WA | AB2: =Input!B28 -> 0 | AC2: =Input!B29 -> 0 | AD2: =Input!B30 -> 0 | AE2: =Input!B31 -> 0 | AF2: =Input!B32 -> 0 | AG2: =Input!B33 -> 0 | AH2: =Input!B34 -> 0 | AI2: =Input!B35 -> 0 | AJ2: =Input!B36 -> 0 | AK2: =Input!B37 -> 0 | AL2: =Input!B38 -> 0 | AM2: =Input!B39 -> 0 | AN2: =Input!B40 -> 0 | AO2: =Input!B41 -> 0 | AP2: =Input!B42 -> 0 | AQ2: =Input!B43 -> 0 | AR2: =Input!B44 -> 0 | AS2: =Input!B45 -> 0 | AT2: =Input!B46 -> 0 | AU2: =Input!B47 -> 0 | AV2: =Input!B48 -> 0 | AW2: =Input!B49 -> 0 | AX2: =Input!B50 -> 2026/2027 SY | AY2: =Input!B51 -> 0 | AZ2: =Input!B52 -> 0 | BA2: =Input!B53 -> 0 | BB2: =Input!B54 -> 0 | BC2: =Input!B55 -> 0 | BD2: =Input!B56 -> 0 | BE2: =Input!B57 -> 0 | BF2: =Input!B58 -> 0 | BG2: =Input!B59 -> 0

Sheet Output
A1: =IF(Sheet1!A1=0, "", Sheet1!A1) -> Affiliate | B1: =IF(Sheet1!B1=0, "", Sheet1!B1) -> School | C1: =IF(Sheet1!C1=0, "", Sheet1!C1) -> StudentID | D1: =IF(Sheet1!D1=0, "", Sheet1!D1) -> FirstName | E1: =IF(Sheet1!E1=0, "", Sheet1!E1) -> LastName | F1: =IF(Sheet1!F1=0, "", Sheet1!F1) -> OriginalCISEnrollment | G1: =IF(Sheet1!G1=0, "", Sheet1!G1) -> ConsentBeginDate | H1: =IF(Sheet1!H1=0, "", Sheet1!H1) -> ConsentEndDate | ... BG1: =IF(Sheet1!BG1=0, "", Sheet1!BG1) -> PublicAssistance2
A2: =IF(Sheet1!A2=0, "", Sheet1!A2) -> CIS of Whatcom County | B2: =IF(Sheet1!B2=0, "", Sheet1!B2) | C2: =IF(Sheet1!C2=0, "", Sheet1!C2) | D2: =IF(Sheet1!D2=0, "", Sheet1!D2) | E2: =IF(Sheet1!E2=0, "", Sheet1!E2) | F2: =IF(Sheet1!F2=0, "", Sheet1!F2) | G2: =IF(Sheet1!G2=0, "", Sheet1!G2) | H2: =IF(Sheet1!H2=0, "", Sheet1!H2) | ... BG2: =IF(Sheet1!BG2=0, "", Sheet1!BG2)
